BEGIN:VCALENDAR
VERSION:2.0
PRODID:SchoolNow
CALSCALE:GREGORIAN
BEGIN:VEVENT
UID:68c72bce-d28a-11ef-887d-0e77c89be7eb
DTSTAMP:20251121T133528Z
SUMMARY:PTO Mtg
URL;VALUE=URI:https://www.sau14.org/district/calendar/7313399/pto-mtg
DTSTART:20260406T230000Z
DTEND:20260407T000000Z
END:VEVENT
END:VCALENDAR
