BEGIN:VCALENDAR
VERSION:2.0
PRODID:SchoolNow
CALSCALE:GREGORIAN
BEGIN:VEVENT
UID:389a0176-5cfd-11f0-8e94-0affe074669d
DTSTAMP:20251121T133532Z
SUMMARY:Nature's Classroom at Camp Cody - 7th Grade Overnight Field Trip
URL;VALUE=URI:https://www.sau14.org/district/calendar/8399573/natures-class
 room-at-camp-cody-7th-grade-overnight-field-trip
DTSTART;VALUE=DATE:20250922
DTEND;VALUE=DATE:20250926
END:VEVENT
END:VCALENDAR
