BEGIN:VCALENDAR
VERSION:2.0
PRODID:SchoolNow
CALSCALE:GREGORIAN
BEGIN:VEVENT
UID:02340f46-8cc8-11f0-8e72-0e23ab8032d5
DTSTAMP:20251121T133532Z
SUMMARY:Tempo Meeting
URL;VALUE=URI:https://www.sau14.org/district/calendar/8594885/tempo-meeting
DTSTART:20260406T220000Z
DTEND:20260406T233000Z
END:VEVENT
END:VCALENDAR
