BEGIN:VCALENDAR
VERSION:2.0
PRODID:SchoolNow
CALSCALE:GREGORIAN
BEGIN:VEVENT
UID:023423e6-8cc8-11f0-b7b7-0e23ab8032d5
DTSTAMP:20251121T133531Z
SUMMARY:EMHS Youth 2 Youth
URL;VALUE=URI:https://www.sau14.org/district/calendar/8594908/emhs-youth-2-
 youth
DTSTART:20260407T183000Z
DTEND:20260407T193000Z
END:VEVENT
END:VCALENDAR
