BEGIN:VCALENDAR
VERSION:2.0
PRODID:SchoolNow
CALSCALE:GREGORIAN
BEGIN:VEVENT
UID:5e32e0b6-eccc-11ef-886f-0ec2a4cd8e47
DTSTAMP:20260422T072008Z
SUMMARY:PTO Mtg
URL;VALUE=URI:https://www.sau14.org/ees/calendar/7480676/pto-mtg
DTSTART:20260106T000000Z
DTEND:20260106T010000Z
END:VEVENT
END:VCALENDAR
