BEGIN:VCALENDAR
VERSION:2.0
PRODID:SchoolNow
CALSCALE:GREGORIAN
BEGIN:VEVENT
UID:5e32e1a6-eccc-11ef-98f5-0ec2a4cd8e47
DTSTAMP:20260420T064008Z
SUMMARY:PTO Mtg
URL;VALUE=URI:https://www.sau14.org/ees/calendar/7480677/pto-mtg
DTSTART:20260204T000000Z
DTEND:20260204T010000Z
END:VEVENT
END:VCALENDAR
