BEGIN:VCALENDAR
VERSION:2.0
PRODID:SchoolNow
CALSCALE:GREGORIAN
BEGIN:VEVENT
UID:5e32e2c8-eccc-11ef-9d93-0ec2a4cd8e47
DTSTAMP:20260420T003507Z
SUMMARY:PTO Mtg
URL;VALUE=URI:https://www.sau14.org/ees/calendar/7480678/pto-mtg
DTSTART:20260303T000000Z
DTEND:20260303T010000Z
END:VEVENT
END:VCALENDAR
