BEGIN:VCALENDAR
VERSION:2.0
PRODID:SchoolNow
CALSCALE:GREGORIAN
BEGIN:VEVENT
UID:5e32e494-eccc-11ef-a785-0ec2a4cd8e47
DTSTAMP:20260420T003507Z
SUMMARY:PTO Mtg
URL;VALUE=URI:https://www.sau14.org/ees/calendar/7480680/pto-mtg
DTSTART:20260504T230000Z
DTEND:20260505T000000Z
END:VEVENT
END:VCALENDAR
