BEGIN:VCALENDAR
VERSION:2.0
PRODID:SchoolNow
CALSCALE:GREGORIAN
BEGIN:VEVENT
UID:5e32e566-eccc-11ef-b85a-0ec2a4cd8e47
DTSTAMP:20260420T064008Z
SUMMARY:PTO Mtg
URL;VALUE=URI:https://www.sau14.org/ees/calendar/7480681/pto-mtg
DTSTART:20260601T230000Z
DTEND:20260602T000000Z
END:VEVENT
END:VCALENDAR
