BEGIN:VCALENDAR
VERSION:2.0
PRODID:SchoolNow
CALSCALE:GREGORIAN
BEGIN:VEVENT
UID:5e32e71e-eccc-11ef-8659-0ec2a4cd8e47
DTSTAMP:20260422T072008Z
SUMMARY:PTO Mtg
URL;VALUE=URI:https://www.sau14.org/ees/calendar/7480683/pto-mtg
DTSTART:20260803T230000Z
DTEND:20260804T000000Z
END:VEVENT
END:VCALENDAR
