BEGIN:VCALENDAR
VERSION:2.0
PRODID:SchoolNow
CALSCALE:GREGORIAN
BEGIN:VEVENT
UID:5e32e8d6-eccc-11ef-8416-0ec2a4cd8e47
DTSTAMP:20260422T072008Z
SUMMARY:PTO Mtg
URL;VALUE=URI:https://www.sau14.org/ees/calendar/7480685/pto-mtg
DTSTART:20261005T230000Z
DTEND:20261006T000000Z
END:VEVENT
END:VCALENDAR
