BEGIN:VCALENDAR
VERSION:2.0
PRODID:SchoolNow
CALSCALE:GREGORIAN
BEGIN:VEVENT
UID:d4d0252c-f946-11ef-9a11-0a58a9feac02
DTSTAMP:20260422T132508Z
SUMMARY:PTO Mtg
URL;VALUE=URI:https://www.sau14.org/ees/calendar/7602947/pto-mtg
DTSTART:20261103T000000Z
DTEND:20261103T010000Z
END:VEVENT
END:VCALENDAR
