BEGIN:VCALENDAR
VERSION:2.0
PRODID:SchoolNow
CALSCALE:GREGORIAN
BEGIN:VEVENT
UID:073b457e-1ff2-11f0-af7d-0a58a9feac02
DTSTAMP:20260422T132508Z
SUMMARY:PTO Mtg
URL;VALUE=URI:https://www.sau14.org/ees/calendar/7987964/pto-mtg
DTSTART:20261208T000000Z
DTEND:20261208T010000Z
END:VEVENT
END:VCALENDAR
