BEGIN:VCALENDAR
VERSION:2.0
PRODID:SchoolNow
CALSCALE:GREGORIAN
BEGIN:VEVENT
UID:078a2752-1ff2-11f0-9929-0a58a9feac02
DTSTAMP:20260422T072008Z
SUMMARY:SCHOOL BOARD MEETING
URL;VALUE=URI:https://www.sau14.org/ees/calendar/7987978/school-board-meeti
 ng
DTSTART:20260115T230000Z
DTEND:20260116T010000Z
END:VEVENT
END:VCALENDAR
