BEGIN:VCALENDAR
VERSION:2.0
PRODID:SchoolNow
CALSCALE:GREGORIAN
BEGIN:VEVENT
UID:078a2838-1ff2-11f0-b0e9-0a58a9feac02
DTSTAMP:20260420T064008Z
SUMMARY:SCHOOL BOARD MEETING
URL;VALUE=URI:https://www.sau14.org/ees/calendar/7987979/school-board-meeti
 ng
DTSTART:20260219T230000Z
DTEND:20260220T010000Z
END:VEVENT
END:VCALENDAR
