BEGIN:VCALENDAR
VERSION:2.0
PRODID:SchoolNow
CALSCALE:GREGORIAN
BEGIN:VEVENT
UID:078a2914-1ff2-11f0-9883-0a58a9feac02
DTSTAMP:20260420T003508Z
SUMMARY:SCHOOL BOARD MEETING
URL;VALUE=URI:https://www.sau14.org/ees/calendar/7987980/school-board-meeti
 ng
DTSTART:20260319T220000Z
DTEND:20260320T000000Z
END:VEVENT
END:VCALENDAR
