BEGIN:VCALENDAR
VERSION:2.0
PRODID:SchoolNow
CALSCALE:GREGORIAN
BEGIN:VEVENT
UID:078a29f0-1ff2-11f0-86af-0a58a9feac02
DTSTAMP:20260420T003508Z
SUMMARY:SCHOOL BOARD MEETING
URL;VALUE=URI:https://www.sau14.org/ees/calendar/7987981/school-board-meeti
 ng
DTSTART:20260416T220000Z
DTEND:20260417T000000Z
END:VEVENT
END:VCALENDAR
