BEGIN:VCALENDAR
VERSION:2.0
PRODID:SchoolNow
CALSCALE:GREGORIAN
BEGIN:VEVENT
UID:078a2ad6-1ff2-11f0-8102-0a58a9feac02
DTSTAMP:20260420T064008Z
SUMMARY:SCHOOL BOARD MEETING
URL;VALUE=URI:https://www.sau14.org/ees/calendar/7987982/school-board-meeti
 ng
DTSTART:20260521T220000Z
DTEND:20260522T000000Z
END:VEVENT
END:VCALENDAR
