BEGIN:VCALENDAR
VERSION:2.0
PRODID:SchoolNow
CALSCALE:GREGORIAN
BEGIN:VEVENT
UID:078a2e50-1ff2-11f0-b5e9-0a58a9feac02
DTSTAMP:20260422T072008Z
SUMMARY:SCHOOL BOARD MEETING
URL;VALUE=URI:https://www.sau14.org/ees/calendar/7987986/school-board-meeti
 ng
DTSTART:20260917T220000Z
DTEND:20260918T000000Z
END:VEVENT
END:VCALENDAR
