BEGIN:VCALENDAR
VERSION:2.0
PRODID:SchoolNow
CALSCALE:GREGORIAN
BEGIN:VEVENT
UID:078a306c-1ff2-11f0-9e19-0a58a9feac02
DTSTAMP:20260422T132507Z
SUMMARY:SCHOOL BOARD MEETING
URL;VALUE=URI:https://www.sau14.org/ees/calendar/7987988/school-board-meeti
 ng
DTSTART:20261119T230000Z
DTEND:20261120T010000Z
END:VEVENT
END:VCALENDAR
