BEGIN:VCALENDAR
VERSION:2.0
PRODID:SchoolNow
CALSCALE:GREGORIAN
BEGIN:VEVENT
UID:078a3152-1ff2-11f0-b6b4-0a58a9feac02
DTSTAMP:20260422T132507Z
SUMMARY:SCHOOL BOARD MEETING
URL;VALUE=URI:https://www.sau14.org/ees/calendar/7987989/school-board-meeti
 ng
DTSTART:20261217T230000Z
DTEND:20261218T010000Z
END:VEVENT
END:VCALENDAR
