BEGIN:VCALENDAR
VERSION:2.0
PRODID:SchoolNow
CALSCALE:GREGORIAN
BEGIN:VEVENT
UID:d5e114d2-2a1d-11f0-b4fb-0a58a9feac02
DTSTAMP:20260422T132508Z
SUMMARY:PTO Mtg
URL;VALUE=URI:https://www.sau14.org/ees/calendar/8074537/pto-mtg
DTSTART:20270105T000000Z
DTEND:20270105T010000Z
END:VEVENT
END:VCALENDAR
