BEGIN:VCALENDAR
VERSION:2.0
PRODID:SchoolNow
CALSCALE:GREGORIAN
BEGIN:VEVENT
UID:019be6e8-310c-11f0-9139-0244babe2cbb
DTSTAMP:20260420T064008Z
SUMMARY:SCHOOL BOARD MEETING
URL;VALUE=URI:https://www.sau14.org/ees/calendar/8135863/school-board-meeti
 ng
DTSTART:20260101T230000Z
DTEND:20260102T010000Z
END:VEVENT
END:VCALENDAR
