BEGIN:VCALENDAR
VERSION:2.0
PRODID:SchoolNow
CALSCALE:GREGORIAN
BEGIN:VEVENT
UID:019be800-310c-11f0-b219-0244babe2cbb
DTSTAMP:20260420T064008Z
SUMMARY:SCHOOL Deliberative Session
URL;VALUE=URI:https://www.sau14.org/ees/calendar/8135864/school-deliberativ
 e-session
DTSTART:20260206T000000Z
DTEND:20260206T020000Z
END:VEVENT
END:VCALENDAR
