BEGIN:VCALENDAR
VERSION:2.0
PRODID:SchoolNow
CALSCALE:GREGORIAN
BEGIN:VEVENT
UID:019be8f0-310c-11f0-aca3-0244babe2cbb
DTSTAMP:20260420T003508Z
SUMMARY:SCHOOL BOARD MEETING
URL;VALUE=URI:https://www.sau14.org/ees/calendar/8135865/school-board-meeti
 ng
DTSTART:20260305T230000Z
DTEND:20260306T010000Z
END:VEVENT
END:VCALENDAR
