BEGIN:VCALENDAR
VERSION:2.0
PRODID:SchoolNow
CALSCALE:GREGORIAN
BEGIN:VEVENT
UID:019bea26-310c-11f0-a849-0244babe2cbb
DTSTAMP:20260420T003508Z
SUMMARY:SCHOOL BOARD MEETING
URL;VALUE=URI:https://www.sau14.org/ees/calendar/8135866/school-board-meeti
 ng
DTSTART:20260402T220000Z
DTEND:20260403T000000Z
END:VEVENT
END:VCALENDAR
