BEGIN:VCALENDAR
VERSION:2.0
PRODID:SchoolNow
CALSCALE:GREGORIAN
BEGIN:VEVENT
UID:019becf6-310c-11f0-901c-0244babe2cbb
DTSTAMP:20260420T064008Z
SUMMARY:SCHOOL BOARD MEETING
URL;VALUE=URI:https://www.sau14.org/ees/calendar/8135869/school-board-meeti
 ng
DTSTART:20260702T220000Z
DTEND:20260703T000000Z
END:VEVENT
END:VCALENDAR
