BEGIN:VCALENDAR
VERSION:2.0
PRODID:SchoolNow
CALSCALE:GREGORIAN
BEGIN:VEVENT
UID:019beddc-310c-11f0-8837-0244babe2cbb
DTSTAMP:20260422T072008Z
SUMMARY:SCHOOL BOARD MEETING
URL;VALUE=URI:https://www.sau14.org/ees/calendar/8135870/school-board-meeti
 ng
DTSTART:20260806T220000Z
DTEND:20260807T000000Z
END:VEVENT
END:VCALENDAR
