BEGIN:VCALENDAR
VERSION:2.0
PRODID:SchoolNow
CALSCALE:GREGORIAN
BEGIN:VEVENT
UID:019bef9e-310c-11f0-8af3-0244babe2cbb
DTSTAMP:20260422T072008Z
SUMMARY:SCHOOL BOARD MEETING
URL;VALUE=URI:https://www.sau14.org/ees/calendar/8135872/school-board-meeti
 ng
DTSTART:20261001T220000Z
DTEND:20261002T000000Z
END:VEVENT
END:VCALENDAR
