BEGIN:VCALENDAR
VERSION:2.0
PRODID:SchoolNow
CALSCALE:GREGORIAN
BEGIN:VEVENT
UID:019bf084-310c-11f0-9405-0244babe2cbb
DTSTAMP:20260422T132508Z
SUMMARY:SCHOOL BOARD MEETING
URL;VALUE=URI:https://www.sau14.org/ees/calendar/8135873/school-board-meeti
 ng
DTSTART:20261105T230000Z
DTEND:20261106T010000Z
END:VEVENT
END:VCALENDAR
