BEGIN:VCALENDAR
VERSION:2.0
PRODID:SchoolNow
CALSCALE:GREGORIAN
BEGIN:VEVENT
UID:019bf16a-310c-11f0-a727-0244babe2cbb
DTSTAMP:20260422T132508Z
SUMMARY:SCHOOL BOARD MEETING
URL;VALUE=URI:https://www.sau14.org/ees/calendar/8135874/school-board-meeti
 ng
DTSTART:20261203T230000Z
DTEND:20261204T010000Z
END:VEVENT
END:VCALENDAR
