BEGIN:VCALENDAR
VERSION:2.0
PRODID:SchoolNow
CALSCALE:GREGORIAN
BEGIN:VEVENT
UID:019bf246-310c-11f0-87ac-0244babe2cbb
DTSTAMP:20260422T132508Z
SUMMARY:SCHOOL BOARD MEETING
URL;VALUE=URI:https://www.sau14.org/ees/calendar/8135875/school-board-meeti
 ng
DTSTART:20270107T230000Z
DTEND:20270108T010000Z
END:VEVENT
END:VCALENDAR
