BEGIN:VCALENDAR
VERSION:2.0
PRODID:SchoolNow
CALSCALE:GREGORIAN
BEGIN:VEVENT
UID:e8df059c-40b8-11f0-b82c-0a58a9feac02
DTSTAMP:20260422T132508Z
SUMMARY:PTO Mtg
URL;VALUE=URI:https://www.sau14.org/ees/calendar/8247255/pto-mtg
DTSTART:20270202T000000Z
DTEND:20270202T010000Z
END:VEVENT
END:VCALENDAR
