BEGIN:VCALENDAR
VERSION:2.0
PRODID:SchoolNow
CALSCALE:GREGORIAN
BEGIN:VEVENT
UID:e8fc148e-40b8-11f0-8e41-0a58a9feac02
DTSTAMP:20260422T132507Z
SUMMARY:SCHOOL BOARD MEETING
URL;VALUE=URI:https://www.sau14.org/ees/calendar/8247256/school-board-meeti
 ng
DTSTART:20270121T230000Z
DTEND:20270122T010000Z
END:VEVENT
END:VCALENDAR
