BEGIN:VCALENDAR
VERSION:2.0
PRODID:SchoolNow
CALSCALE:GREGORIAN
BEGIN:VEVENT
UID:53cd06b2-4c79-11f0-8629-0e3e025b64c5
DTSTAMP:20260422T193008Z
SUMMARY:SCHOOL BOARD MEETING
URL;VALUE=URI:https://www.sau14.org/ees/calendar/8324921/school-board-meeti
 ng
DTSTART:20270204T230000Z
DTEND:20270205T010000Z
END:VEVENT
END:VCALENDAR
