BEGIN:VCALENDAR
VERSION:2.0
PRODID:SchoolNow
CALSCALE:GREGORIAN
BEGIN:VEVENT
UID:1c3f0adc-50a8-11f0-b3ef-0a58a9feac02
DTSTAMP:20260422T132507Z
SUMMARY:SCHOOL BOARD MEETING
URL;VALUE=URI:https://www.sau14.org/ees/calendar/8346628/school-board-meeti
 ng
DTSTART:20270218T230000Z
DTEND:20270219T010000Z
END:VEVENT
END:VCALENDAR
