BEGIN:VCALENDAR
VERSION:2.0
PRODID:SchoolNow
CALSCALE:GREGORIAN
BEGIN:VEVENT
UID:f58ff974-81f7-11f0-9a35-0ef68f5b8b0d
DTSTAMP:20260422T193008Z
SUMMARY:SCHOOL BOARD MEETING
URL;VALUE=URI:https://www.sau14.org/ees/calendar/8542458/school-board-meeti
 ng
DTSTART:20270304T230000Z
DTEND:20270305T010000Z
END:VEVENT
END:VCALENDAR
