BEGIN:VCALENDAR
VERSION:2.0
PRODID:SchoolNow
CALSCALE:GREGORIAN
BEGIN:VEVENT
UID:f58ffa78-81f7-11f0-a1d3-0ef68f5b8b0d
DTSTAMP:20260422T193008Z
SUMMARY:SCHOOL BOARD MEETING
URL;VALUE=URI:https://www.sau14.org/ees/calendar/8542459/school-board-meeti
 ng
DTSTART:20270401T220000Z
DTEND:20270402T000000Z
END:VEVENT
END:VCALENDAR
