BEGIN:VCALENDAR
VERSION:2.0
PRODID:SchoolNow
CALSCALE:GREGORIAN
BEGIN:VEVENT
UID:f58ffd16-81f7-11f0-8040-0ef68f5b8b0d
DTSTAMP:20260422T193007Z
SUMMARY:PTO Mtg
URL;VALUE=URI:https://www.sau14.org/ees/calendar/8542460/pto-mtg
DTSTART:20270302T000000Z
DTEND:20270302T010000Z
END:VEVENT
END:VCALENDAR
