BEGIN:VCALENDAR
VERSION:2.0
PRODID:SchoolNow
CALSCALE:GREGORIAN
BEGIN:VEVENT
UID:f58ffe10-81f7-11f0-bc0e-0ef68f5b8b0d
DTSTAMP:20260422T193007Z
SUMMARY:PTO Mtg
URL;VALUE=URI:https://www.sau14.org/ees/calendar/8542461/pto-mtg
DTSTART:20270405T230000Z
DTEND:20270406T000000Z
END:VEVENT
END:VCALENDAR
