BEGIN:VCALENDAR
VERSION:2.0
PRODID:SchoolNow
CALSCALE:GREGORIAN
BEGIN:VEVENT
UID:f59008e2-81f7-11f0-a439-0ef68f5b8b0d
DTSTAMP:20260422T193008Z
SUMMARY:SCHOOL BOARD MEETING
URL;VALUE=URI:https://www.sau14.org/ees/calendar/8542463/school-board-meeti
 ng
DTSTART:20270415T220000Z
DTEND:20270416T000000Z
END:VEVENT
END:VCALENDAR
