BEGIN:VCALENDAR
VERSION:2.0
PRODID:SchoolNow
CALSCALE:GREGORIAN
BEGIN:VEVENT
UID:33e8ae02-8b83-11f0-b9c2-0affe1d23a71
DTSTAMP:20260422T193008Z
SUMMARY:SCHOOL BOARD MEETING
URL;VALUE=URI:https://www.sau14.org/ees/calendar/8589149/school-board-meeti
 ng
DTSTART:20270506T220000Z
DTEND:20270507T000000Z
END:VEVENT
END:VCALENDAR
