BEGIN:VCALENDAR
VERSION:2.0
PRODID:SchoolNow
CALSCALE:GREGORIAN
BEGIN:VEVENT
UID:33e8b0d2-8b83-11f0-ada9-0affe1d23a71
DTSTAMP:20260422T193007Z
SUMMARY:PTO Mtg
URL;VALUE=URI:https://www.sau14.org/ees/calendar/8589150/pto-mtg
DTSTART:20270503T230000Z
DTEND:20270504T000000Z
END:VEVENT
END:VCALENDAR
