BEGIN:VCALENDAR
VERSION:2.0
PRODID:SchoolNow
CALSCALE:GREGORIAN
BEGIN:VEVENT
UID:317ad392-8bb6-11f0-91e7-0e9d7e8a1d83
DTSTAMP:20260420T064008Z
SUMMARY:Grade 1 ATLAS
URL;VALUE=URI:https://www.sau14.org/ees/calendar/8589878/grade-1-atlas
DTSTART:20260106T140000Z
DTEND:20260106T160000Z
END:VEVENT
END:VCALENDAR
