BEGIN:VCALENDAR
VERSION:2.0
PRODID:SchoolNow
CALSCALE:GREGORIAN
BEGIN:VEVENT
UID:317ad7a2-8bb6-11f0-a653-0e9d7e8a1d83
DTSTAMP:20260420T064008Z
SUMMARY:Kindergarten Burley Farms
URL;VALUE=URI:https://www.sau14.org/ees/calendar/8589880/kindergarten-burle
 y-farms
DTSTART:20260202T134500Z
DTEND:20260202T161500Z
END:VEVENT
END:VCALENDAR
