BEGIN:VCALENDAR
VERSION:2.0
PRODID:SchoolNow
CALSCALE:GREGORIAN
BEGIN:VEVENT
UID:317ad8ba-8bb6-11f0-a52b-0e9d7e8a1d83
DTSTAMP:20260420T064008Z
SUMMARY:Grade 1 Burley Farms
URL;VALUE=URI:https://www.sau14.org/ees/calendar/8589881/grade-1-burley-far
 ms
DTSTART:20260112T134500Z
DTEND:20260112T161500Z
END:VEVENT
END:VCALENDAR
