BEGIN:VCALENDAR
VERSION:2.0
PRODID:SchoolNow
CALSCALE:GREGORIAN
BEGIN:VEVENT
UID:317ad9be-8bb6-11f0-a3db-0e9d7e8a1d83
DTSTAMP:20260420T064008Z
SUMMARY:In-Service Day- NO SCHOOL for STUDENTS
URL;VALUE=URI:https://www.sau14.org/ees/calendar/8589882/in-service-day-no-
 school-for-students
DTSTART;VALUE=DATE:20260116
DTEND;VALUE=DATE:20260117
END:VEVENT
END:VCALENDAR
