BEGIN:VCALENDAR
VERSION:2.0
PRODID:SchoolNow
CALSCALE:GREGORIAN
BEGIN:VEVENT
UID:317adab8-8bb6-11f0-946c-0e9d7e8a1d83
DTSTAMP:20260420T064008Z
SUMMARY:NO SCHOOL- MLK Civil Rights Day
URL;VALUE=URI:https://www.sau14.org/ees/calendar/8589883/no-school-mlk-civi
 l-rights-day
DTSTART;VALUE=DATE:20260119
DTEND;VALUE=DATE:20260120
END:VEVENT
END:VCALENDAR
