BEGIN:VCALENDAR
VERSION:2.0
PRODID:SchoolNow
CALSCALE:GREGORIAN
BEGIN:VEVENT
UID:317adba8-8bb6-11f0-9a26-0e9d7e8a1d83
DTSTAMP:20260420T064008Z
SUMMARY:Grade 2 Burley Farms
URL;VALUE=URI:https://www.sau14.org/ees/calendar/8589884/grade-2-burley-far
 ms
DTSTART:20260216T134500Z
DTEND:20260216T161500Z
END:VEVENT
END:VCALENDAR
