BEGIN:VCALENDAR
VERSION:2.0
PRODID:SchoolNow
CALSCALE:GREGORIAN
BEGIN:VEVENT
UID:317adc98-8bb6-11f0-a1f1-0e9d7e8a1d83
DTSTAMP:20260420T064008Z
SUMMARY:NO SCHOOL- Presidents Day
URL;VALUE=URI:https://www.sau14.org/ees/calendar/8589885/no-school-presiden
 ts-day
DTSTART;VALUE=DATE:20260223
DTEND;VALUE=DATE:20260224
END:VEVENT
END:VCALENDAR
